BEGIN:VCALENDAR
PRODID:-//spiritec//spiritec media library//EN
VERSION:2.0
METHOD:PUBLISH
BEGIN:VEVENT
UID:ical-2026-05-19-2847
DTSTART:20260519T080000Z
DTSTAMP:20260420T174226Z
LOCATION:Probebühne
SUMMARY:Was Wanda will
DESCRIPTION:Mainfranken Theater Würzburg\nProbebühne\nTheaterstraße 21\n97070 Würzburg
CREATED:20260420T174226Z
DTEND:20260519T093000Z
END:VEVENT
END:VCALENDAR
